BEGIN:VCALENDAR
CALSCALE:GREGORIAN
PRODID: SPIP https://www.spip.net
VERSION:2.0

X-WR-CALNAME;VALUE=TEXT:Berre l’Étang -- Agenda
X-WR-RELCALID:https://www.berreletang.fr



BEGIN:VEVENT
SUMMARY:Le gynéco-bus  
UID:article4008 @ https://www.berreletang.fr
DTSTAMP:20250909T142358Z
DTSTART:20260513T083000Z
DTEND:20260513T133000Z
CREATED:20250909T142358Z
LAST-MODIFIED:20260330T095922Z
LOCATION:Salle Alain Bombard
CATEGORIES:Agenda Berre l'Étang
URL:https://berreletang.eu/le-gyneco-bus
STATUS:CONFIRMED
END:VEVENT
END:VCALENDAR