BEGIN:VCALENDAR
CALSCALE:GREGORIAN
PRODID: SPIP https://www.spip.net
VERSION:2.0

X-WR-CALNAME;VALUE=TEXT:Berre l’Étang -- Agenda
X-WR-RELCALID:https://www.berreletang.fr



BEGIN:VEVENT
SUMMARY:Repas des séniors  - Centre Communal d'Action Sociale
UID:article738 @ https://www.berreletang.fr
DTSTAMP:20160422T092648Z
DTSTART:20260617T100000Z
DTEND:20260617T100000Z
CREATED:20160422T092648Z
LAST-MODIFIED:20260421T131003Z
LOCATION:Parc Henri Fabre
CATEGORIES:Agenda Berre l'Étang
URL:https://berreletang.eu/repas-des-seniors
STATUS:CONFIRMED
END:VEVENT
END:VCALENDAR