BEGIN:VCALENDAR
CALSCALE:GREGORIAN
PRODID: SPIP https://www.spip.net
VERSION:2.0

X-WR-CALNAME;VALUE=TEXT:Berre l’Étang -- Agenda
X-WR-RELCALID:https://www.berreletang.fr



BEGIN:VEVENT
SUMMARY:Le mois de l'ELJ - Vélo réparation et balade 
UID:article4082 @ https://www.berreletang.fr
DTSTAMP:20260116T095133Z
DTSTART:20260516T140000Z
DTEND:20260516T140000Z
CREATED:20260116T095133Z
LAST-MODIFIED:20260423T081325Z
LOCATION:En bord d'étang
CATEGORIES:Agenda Berre l'Étang
URL:https://berreletang.eu/le-mois-de-l-elj
STATUS:CONFIRMED
END:VEVENT
END:VCALENDAR