BEGIN:VCALENDAR
CALSCALE:GREGORIAN
PRODID: SPIP https://www.spip.net
VERSION:2.0

X-WR-CALNAME;VALUE=TEXT:Berre l’Étang -- Agenda
X-WR-RELCALID:https://www.berreletang.fr



BEGIN:VEVENT
SUMMARY:Conseil Municipal  - La séance
UID:article4015 @ https://www.berreletang.fr
DTSTAMP:20260327T125822Z
DTSTART:20260428T153000Z
DTEND:20260428T153000Z
CREATED:20260327T125822Z
LAST-MODIFIED:20260423T120500Z
CATEGORIES:Agenda Berre l'Étang
URL:https://berreletang.eu/conseil-municipal-4015
STATUS:CONFIRMED
END:VEVENT
END:VCALENDAR