BEGIN:VCALENDAR
CALSCALE:GREGORIAN
PRODID: SPIP https://www.spip.net
VERSION:2.0

X-WR-CALNAME;VALUE=TEXT:Berre l’Étang -- Agenda
X-WR-RELCALID:https://www.berreletang.fr



BEGIN:VEVENT
SUMMARY:Tournoi de football saison 2026 - Matchs Départ et Régional 
UID:article1527 @ https://www.berreletang.fr
DTSTAMP:20180115T133409Z
DTSTART;VALUE=DATE:20260510
DTEND;VALUE=DATE:20260511
CREATED:20180115T133409Z
LAST-MODIFIED:20251230T073739Z
LOCATION:Stade Roger Martin
CATEGORIES:Agenda Berre l'Étang
URL:https://berreletang.eu/tournoidefootball
STATUS:CONFIRMED
END:VEVENT
END:VCALENDAR