BEGIN:VCALENDAR
CALSCALE:GREGORIAN
PRODID: SPIP https://www.spip.net
VERSION:2.0

X-WR-CALNAME;VALUE=TEXT:Berre l’Étang -- Agenda
X-WR-RELCALID:https://www.berreletang.fr



BEGIN:VEVENT
SUMMARY:Régate hobie Cat 2026  - par le CNB et Hobie Cat
UID:article4142 @ https://www.berreletang.fr
DTSTAMP:20260422T094025Z
DTSTART;VALUE=DATE:20260523
DTEND;VALUE=DATE:20260526
CREATED:20260422T094025Z
LAST-MODIFIED:20260422T094350Z
LOCATION:Champigny
CATEGORIES:Agenda Berre l'Étang
URL:https://berreletang.eu/regate-hobie-cat-2026
STATUS:CONFIRMED
END:VEVENT
END:VCALENDAR