BEGIN:VCALENDAR
CALSCALE:GREGORIAN
PRODID: SPIP https://www.spip.net
VERSION:2.0

X-WR-CALNAME;VALUE=TEXT:Berre l’Étang -- Agenda
X-WR-RELCALID:https://www.berreletang.fr



BEGIN:VEVENT
SUMMARY:Bib des bébés  
UID:article1505 @ https://www.berreletang.fr
DTSTAMP:20260115T112725Z
DTSTART:20260605T080000Z
DTEND:20260605T080000Z
CREATED:20260115T112725Z
LAST-MODIFIED:20251106T143116Z
LOCATION:Médiathèque 
CATEGORIES:Agenda Berre l'Étang
URL:https://berreletang.eu/bibdesbebes
STATUS:CONFIRMED
END:VEVENT
END:VCALENDAR