BEGIN:VCALENDAR
CALSCALE:GREGORIAN
PRODID: SPIP https://www.spip.net
VERSION:2.0

X-WR-CALNAME;VALUE=TEXT:Berre l’Étang -- Agenda
X-WR-RELCALID:https://www.berreletang.fr



BEGIN:VEVENT
SUMMARY:Photos Vidéos - Transfert photos 
UID:article4020 @ https://www.berreletang.fr
DTSTAMP:19991231T230000Z
DTSTART:20260529T120000Z
DTEND:20260529T120000Z
CREATED:19991231T230000Z
LAST-MODIFIED:20260423T074308Z
LOCATION:MDAN
CATEGORIES:Agenda Berre l'Étang
URL:https://berreletang.eu/montagevideo
STATUS:CONFIRMED
END:VEVENT
END:VCALENDAR