BEGIN:VCALENDAR
CALSCALE:GREGORIAN
PRODID: SPIP https://www.spip.net
VERSION:2.0

X-WR-CALNAME;VALUE=TEXT:Berre l’Étang -- Agenda
X-WR-RELCALID:https://www.berreletang.fr



BEGIN:VEVENT
SUMMARY:Le mois de l'ELJ - Sport au Ctiy 
UID:article4082 @ https://www.berreletang.fr
DTSTAMP:20260116T095407Z
DTSTART:20260527T120000Z
DTEND:20260527T120000Z
CREATED:20260116T095407Z
LAST-MODIFIED:20260423T081325Z
LOCATION:M. Quartier/ELJ
CATEGORIES:Agenda Berre l'Étang
URL:https://berreletang.eu/le-mois-de-l-elj
STATUS:CONFIRMED
END:VEVENT
END:VCALENDAR