BEGIN:VCALENDAR
CALSCALE:GREGORIAN
PRODID: SPIP https://www.spip.net
VERSION:2.0

X-WR-CALNAME;VALUE=TEXT:Berre l’Étang -- Agenda
X-WR-RELCALID:https://www.berreletang.fr



BEGIN:VEVENT
SUMMARY:Belote Contrée  - Belote Contrée 
UID:article1000 @ https://www.berreletang.fr
DTSTAMP:20161027T103406Z
DTSTART;VALUE=DATE:20260523
DTEND;VALUE=DATE:20260524
CREATED:20161027T103406Z
LAST-MODIFIED:20260422T093143Z
LOCATION:Salle Alain Bombard
CATEGORIES:Agenda Berre l'Étang
URL:https://berreletang.eu/belotecontree
STATUS:CONFIRMED
END:VEVENT
END:VCALENDAR