BEGIN:VCALENDAR
CALSCALE:GREGORIAN
PRODID: SPIP https://www.spip.net
VERSION:2.0

X-WR-CALNAME;VALUE=TEXT:Berre l’Étang -- Agenda
X-WR-RELCALID:https://www.berreletang.fr



BEGIN:VEVENT
SUMMARY:Séjours vacances 2026  - Réunions d'information 
UID:article1531 @ https://www.berreletang.fr
DTSTAMP:20180117T095110Z
DTSTART:20260519T150000Z
DTEND:20260519T150000Z
CREATED:20180117T095110Z
LAST-MODIFIED:20260421T132732Z
LOCATION:Salle Polyvalente
CATEGORIES:Agenda Berre l'Étang
URL:https://berreletang.eu/reunioninfo-sejoursvacancesete
STATUS:CONFIRMED
END:VEVENT
END:VCALENDAR