BEGIN:VCALENDAR
CALSCALE:GREGORIAN
PRODID: SPIP https://www.spip.net
VERSION:2.0

X-WR-CALNAME;VALUE=TEXT:Berre l’Étang -- Agenda
X-WR-RELCALID:https://www.berreletang.fr



BEGIN:VEVENT
SUMMARY:Journée Nationale de la Résistance - Cérémonie 
UID:article2058 @ https://www.berreletang.fr
DTSTAMP:20190513T141637Z
DTSTART:20260527T154500Z
DTEND:20260527T154500Z
CREATED:20190513T141637Z
LAST-MODIFIED:20260422T095151Z
LOCATION:En ville
CATEGORIES:Agenda Berre l'Étang
URL:https://berreletang.eu/journee-nationale-de-la-resistance
STATUS:CONFIRMED
END:VEVENT
END:VCALENDAR